BEGIN:VCALENDAR
VERSION:2.0
PRODID:gruene-cw.de
METHOD:PUBLISH
BEGIN:VTIMEZONE
TZID:Europe/Berlin
X-LIC-LOCATION:Europe/Berlin
BEGIN:DAYLIGHT
TZOFFSETFROM:+0100
TZOFFSETTO:+0200
TZNAME:CEST
DTSTART:19700329T020000
RRULE:FREQ=YEARLY;INTERVAL=1;BYDAY=-1SU;BYMONTH=3
END:DAYLIGHT
BEGIN:STANDARD
TZOFFSETFROM:+0200
TZOFFSETTO:+0100
TZNAME:CET
DTSTART:19701025T030000
RRULE:FREQ=YEARLY;INTERVAL=1;BYDAY=-1SU;BYMONTH=10
END:STANDARD
END:VTIMEZONE
BEGIN:VEVENT
UID:15c573b2d4c67c0eebdfb0a50932c007@gruene-cw.de
URL;VALUE=URI:https://gruene-cw.de/termine/kiezfest-auf-dem-steubenplatz/
LOCATION:Steubenplatz
SUMMARY:Kiezfest auf dem Steubenplatz
DESCRIPTION;ALTREP="data:text/html,%3Cp%3EAm%2025.04.%20von%2011%3A00%20b
 is%2015%3A00%20Uhr%20m%C3%B6chte%20die%20Stadtteilgruppe%20Westend%20von%
 20B%C3%BCndnis%2090%2FDie%20Gr%C3%BCnen%20ein%20Kiezfest%20zum%20Thema%20
 Begr%C3%BCnung%20und%20Nachbarschaftsengagment%2C%20sowie%20Kiezversch%C3
 %B6nerung%20veranstalten.%20Musikalische%20Unterhaltung%20kommt%20von%20S
 amira%20%26amp%3B%20the%20yellow%20dragon%20flies.%3Cbr%20%2F%3E%0A%3Cbr%
 20%2F%3E%0ADabei%20gibt%20es%20ein%20buntes%20und%20vielf%C3%A4ltiges%20P
 rogramm%3A%3Cbr%20%2F%3E%0A-%20Die%20Intiative%20Fritschestra%C3%9Fe%20st
 ellt%20ihr%20Konzept%20zur%20pr%C3%A4mierten%20Baumscheibe%20vor.%20https
 %3A%2F%2Fwww.einfach-beeten.de%2F%3Cbr%20%2F%3E%0A%3Cbr%20%2F%3E%0A-%20Di
 e%20Strategische%20Mobilit%C3%A4tsplanungsagentur%20Stramo%20bringt%20die
 %20Studie%20zur%20Wirkung%20von%20Verkehrsberuhigung%20der%20Gr%C3%BCnen%
 20Fraktion%20im%20Berliner%20Abgeordnetenhaus%20mit.%20In%20dieser%20Stud
 ie%20wurden%20die%20Effekte%20von%20Verkehrsberuhigungsma%C3%9Fnahmen%20h
 insichtlich%20Verkehrssicherheit%2C%20Aufenthaltsqualit%C3%A4t%20und%20Ak
 zeptanz%20in%20elf%20Berliner%20Kiezen%20untersucht.%3Cbr%20%2F%3E%0A%3Cb
 r%20%2F%3E%0A-%20Der%20Stamm%20Normannen%20aus%20Berlin-Charlottenburg%2C
 %20Mitglied%20im%20Bund%20der%20Pfadfinderinnen%20und%20Pfadfinder%20%28B
 dP%29%20zeigt%2C%20wie%20sich%20Kinder%20und%20Jugendliche%20in%20Gemeins
 chaft%20engagieren%3Cbr%20%2F%3E%0A%3Cbr%20%2F%3E%0A-%20Die%20LAG%20Graue
 %20Igel%20Berlin%20erkl%C3%A4ren%2C%20warum%20sie%20sich%20gerade%20als%2
 0%C3%84ltere%20f%C3%BCr%20Klima-%20und%20Umweltschutz%20einsetzen.%3Cbr%2
 0%2F%3E%0A%3Cbr%20%2F%3E%0A-%20Die%20LAG%20Bildung%20spricht%20%C3%BCber%
 20Bildung%20wie%20Samen%2C%20die%20wir%20in%20K%C3%B6pfen%20pflanzen%20%E
 2%80%93%20was%20heute%20w%C3%A4chst%2C%20gestaltet%20morgen%20unsere%20Ge
 sellschaft.%20Wir%20stehen%20f%C3%BCr%20Bildung%20im%20Kiez%3A%20offen%2C
 %20gemeinschaftlich%20und%20nachhaltig.%3Cbr%20%2F%3E%0A%3Cbr%20%2F%3E%0A
 -%20Der%20Luisenfriedhof%20erz%C3%A4hlt%20von%20der%20historischen%20Sch%
 C3%B6nheit%20der%20Luisenkirchh%C3%B6fe%20und%20macht%20Sehnsuchtslandsch
 aften%20als%20alternative%20Bestattungsangebote%20anschaulich.%3C%2Fp%3E"
 :Am 25.04. von 11:00 bis 15:00 Uhr möchte die Stadtteilgruppe Westend vo
 n Bündnis 90/Die Grünen ein Kiezfest zum Thema Begrünung und Nachbarsc
 haftsengagment\, sowie Kiezverschönerung veranstalten. Musikalische Unte
 rhaltung kommt von Samira & the yellow dragon flies.\n\nDabei gibt es ein
  buntes und vielfältiges Programm:\n\n- Die Intiative Fritschestraße st
 ellt ihr Konzept zur prämierten Baumscheibe vor. https://www.einfach-bee
 ten.de/\n\n- Die Strategische Mobilitätsplanungsagentur Stramo bringt di
 e Studie zur Wirkung von Verkehrsberuhigung der Grünen Fraktion im Berli
 ner Abgeordnetenhaus mit. In dieser Studie wurden die Effekte von Verkehr
 sberuhigungsmaßnahmen hinsichtlich Verkehrssicherheit\, Aufenthaltsquali
 tät und Akzeptanz in elf Berliner Kiezen untersucht.\n\n- Der Stamm Norm
 annen aus Berlin-Charlottenburg\, Mitglied im Bund der Pfadfinderinnen un
 d Pfadfinder (BdP) zeigt\, wie sich Kinder und Jugendliche in Gemeinschaf
 t engagieren\n\n- Die LAG Graue Igel Berlin erklären\, warum sie sich ge
 rade als Ältere für Klima- und Umweltschutz einsetzen.\n\n- Die LAG Bil
 dung spricht über Bildung wie Samen\, die wir in Köpfen pflanzen – wa
 s heute wächst\, gestaltet morgen unsere Gesellschaft. Wir stehen für B
 ildung im Kiez: offen\, gemeinschaftlich und nachhaltig.\n\n- Der Luisenf
 riedhof erzählt von der historischen Schönheit der Luisenkirchhöfe und
  macht Sehnsuchtslandschaften als alternative Bestattungsangebote anschau
 lich.
CLASS:PUBLIC
DTSTART;TZID=Europe/Berlin:20260425T110000
DTEND;TZID=Europe/Berlin:20260425T150000
DTSTAMP:20260422T150402
END:VEVENT
END:VCALENDAR