BEGIN:VCALENDAR
VERSION:2.0
PRODID:gruene-cw.de
METHOD:PUBLISH
BEGIN:VTIMEZONE
TZID:Europe/Berlin
X-LIC-LOCATION:Europe/Berlin
BEGIN:DAYLIGHT
TZOFFSETFROM:+0100
TZOFFSETTO:+0200
TZNAME:CEST
DTSTART:19700329T020000
RRULE:FREQ=YEARLY;INTERVAL=1;BYDAY=-1SU;BYMONTH=3
END:DAYLIGHT
BEGIN:STANDARD
TZOFFSETFROM:+0200
TZOFFSETTO:+0100
TZNAME:CET
DTSTART:19701025T030000
RRULE:FREQ=YEARLY;INTERVAL=1;BYDAY=-1SU;BYMONTH=10
END:STANDARD
END:VTIMEZONE
BEGIN:VEVENT
UID:32e1cde8639e75144e19dabda07ed6c2@gruene-cw.de
URL;VALUE=URI:https://gruene-cw.de/termine/ag-offene-gesellschaft/
LOCATION:Rathaus Charlottenburg im Lily-Braun-Saal
SUMMARY:AG Offene Gesellschaft
DESCRIPTION;ALTREP="data:text/html,%3Cp%3EAnsprechpersonen%3A%20Maria%20u
 nd%20Pablo%3Cbr%20%2F%3E%0ALiebe%20Freund%2Ainnen%2C%3Cbr%20%2F%3E%0AWir%
 20laden%20euch%20herzlich%20zu%20unserer%20n%C3%A4chsten%20AG-Sitzung%20a
 m%2013.05.26%20um%2019%20Uhr%20im%20Lily-Braun-Saal%20im%20Rathaus%20Char
 lottenburg%20ein.%20Anl%C3%A4sslich%20des%20Internationalen%20Tages%20geg
 en%20Homo-%2C%20Bi-%2C%20Inter-%2C%20und%20Trans-Phobie%20%28IDAHOBIT%2A%
 29%20werden%20wir%20uns%20mit%20dem%20Thema%20Gewalt%20und%20Diskriminier
 ungsf%C3%A4lle%20gegen%20LGBTQIA%2A%20besch%C3%A4ftigen.%20Anfragen%20an%
 20Referent%2Ainnen%20zu%20dem%20Thema%20sind%20gestellt.%20Passend%20zum%
 20diesj%C3%A4hrigen%20Motto%20des%20IDAHOBIT%2A%20%E2%80%9EIm%20Herzen%20
 der%20Demokratie%E2%80%9C%20wollen%20wir%20die%20Frage%20behandeln%2C%20w
 as%20bedeutet%20es%20f%C3%BCr%20unsere%20Gesellschaft%2C%20wenn%20Mensche
 n%20aufgrund%20ihrer%20sexuellen%20und%20geschlechtlichen%20Identit%C3%A4
 t%20nicht%20frei%20leben%20und%20sich%20entfalten%20k%C3%B6nnen.%20%3Cbr%
 20%2F%3E%0AAufgrund%20der%20Entwicklungen%20der%20letzten%20Monate%20in%2
 0dieser%20AG%20sowie%20der%20Satzungs%C3%A4nderung%20m%C3%BCssen%20wir%20
 au%C3%9Ferdem%20die%20Koordinierenden%20f%C3%BCr%20diese%20AG%20w%C3%A4hl
 en.%20Es%20k%C3%B6nnen%20mindestens%20zwei%20und%20maximal%20vier%20Perso
 nen%20in%20der%20Koordination%20sein%2C%20selbstverst%C3%A4ndlich%20muss%
 20das%20Team%20quotiert%20sein.%20Wir%20w%C3%BCrden%20diese%20Wahl%20gen%
 20auch%20beim%20Treffen%20der%20AG%20am%2013.05.%20durchf%C3%BChren.%20We
 r%20sich%20f%C3%BCr%20die%20Koordinationsrolle%20interessiert%2C%20kann%2
 0sich%20gern%20bei%20Pablo%20und%20mir%20melden%20oder%20auch%20am%2013.0
 5.%20spontan%20kandidieren.%3Cbr%20%2F%3E%0AUnser%20Vorschlag%20f%C3%BCr%
 20die%20TO%20am%2013.05.%20ist%20also%3A%3Cbr%20%2F%3E%0ATOP%201%20Begr%C
 3%BC%C3%9Fung%20und%20Formalia%3Cbr%20%2F%3E%0ATOP%202%20Wahl%3A%20Koordi
 nierende%20der%20AG%3Cbr%20%2F%3E%0ATOP%203%20Thema%3A%20Gewalt%20und%20D
 iskriminierung%20gegen%20LGBTQIA%2A%3Cbr%20%2F%3E%0ATOP%204%20Ausblick%20
 und%20Sonstiges%3Cbr%20%2F%3E%0AF%C3%BCr%20Anmerkungen%20und%20Fragen%20s
 tehen%20wir%20gern%20zur%20Verf%C3%BCgung.%3Cbr%20%2F%3E%0ABis%20zum%2013
 .05.%20und%20alles%20Liebe%3Cbr%20%2F%3E%0APablo%20und%20Maria%3C%2Fp%3E"
 :Ansprechpersonen: Maria und Pablo\n\nLiebe Freund*innen\,\n\nWir laden e
 uch herzlich zu unserer nächsten AG-Sitzung am 13.05.26 um 19 Uhr im Lil
 y-Braun-Saal im Rathaus Charlottenburg ein. Anlässlich des International
 en Tages gegen Homo-\, Bi-\, Inter-\, und Trans-Phobie (IDAHOBIT*) werden
  wir uns mit dem Thema Gewalt und Diskriminierungsfälle gegen LGBTQIA* b
 eschäftigen. Anfragen an Referent*innen zu dem Thema sind gestellt. Pass
 end zum diesjährigen Motto des IDAHOBIT* „Im Herzen der Demokratie“ 
 wollen wir die Frage behandeln\, was bedeutet es für unsere Gesellschaft
 \, wenn Menschen aufgrund ihrer sexuellen und geschlechtlichen Identität
  nicht frei leben und sich entfalten können.\n\nAufgrund der Entwicklung
 en der letzten Monate in dieser AG sowie der Satzungsänderung müssen wi
 r außerdem die Koordinierenden für diese AG wählen. Es können mindest
 ens zwei und maximal vier Personen in der Koordination sein\, selbstverst
 ändlich muss das Team quotiert sein. Wir würden diese Wahl gen auch bei
 m Treffen der AG am 13.05. durchführen. Wer sich für die Koordinationsr
 olle interessiert\, kann sich gern bei Pablo und mir melden oder auch am 
 13.05. spontan kandidieren.\n\nUnser Vorschlag für die TO am 13.05. ist 
 also:\n\nTOP 1 Begrüßung und Formalia\n\nTOP 2 Wahl: Koordinierende der
  AG\n\nTOP 3 Thema: Gewalt und Diskriminierung gegen LGBTQIA*\n\nTOP 4 Au
 sblick und Sonstiges\n\nFür Anmerkungen und Fragen stehen wir gern zur V
 erfügung.\n\nBis zum 13.05. und alles Liebe\n\nPablo und Maria
CLASS:PUBLIC
DTSTART;TZID=Europe/Berlin:20260513T190000
DTEND;TZID=Europe/Berlin:20260513T210000
DTSTAMP:20260422T144226
END:VEVENT
END:VCALENDAR