BEGIN:VCALENDAR
VERSION:2.0
PRODID:gruene-cw.de
METHOD:PUBLISH
BEGIN:VTIMEZONE
TZID:Europe/Berlin
X-LIC-LOCATION:Europe/Berlin
BEGIN:DAYLIGHT
TZOFFSETFROM:+0100
TZOFFSETTO:+0200
TZNAME:CEST
DTSTART:19700329T020000
RRULE:FREQ=YEARLY;INTERVAL=1;BYDAY=-1SU;BYMONTH=3
END:DAYLIGHT
BEGIN:STANDARD
TZOFFSETFROM:+0200
TZOFFSETTO:+0100
TZNAME:CET
DTSTART:19701025T030000
RRULE:FREQ=YEARLY;INTERVAL=1;BYDAY=-1SU;BYMONTH=10
END:STANDARD
END:VTIMEZONE
BEGIN:VEVENT
UID:8c8785a0c84b163bb24fc6442108bcdf@gruene-cw.de
URL;VALUE=URI:https://gruene-cw.de/termine/ag-mobilitaet-zu-feministische
 r-mobilitaet/
LOCATION:Online: https://konferenz.netzbegruenung.de/grueneagmobilitaet
SUMMARY:AG Mobilität zu feministischer Mobilität
DESCRIPTION;ALTREP="data:text/html,%3Cp%3ELiebe%20Freund%2Ainnen%2C%3Cbr%
 20%2F%3E%0A%3Cbr%20%2F%3E%0Aam%209.3.%20haben%20wir%20f%C3%BCr%20feminist
 ische%20Mobilit%C3%A4tspolitik%20demonstriert.%20Nun%20wollen%20wir%20uns
 %20am%2022.%20April%20auch%20inhaltlich%20in%20der%20AG%20Mobilit%C3%A4t%
 20austauschen.%3Cbr%20%2F%3E%0ASwantje%20Michaelsen%2C%20MdB%2C%20und%20i
 m%20Verkehrsausschuss%20organisiert%20im%20Team%20mit%20weiteren%20Frauen
 %20den%20Kongress%20Frauen%20machen%20Mobil%28it%C3%A4t%29.%20Hier%20beko
 mmen%20Frauen%2C%20die%20f%C3%BCr%20die%20Verkehrswende%20k%C3%A4mpfen%2C
 %20eine%20Stimme.%3Cbr%20%2F%3E%0A%3Cbr%20%2F%3E%0AJulia%20Fertig%20%28Re
 spect%20Cyclists%29%20und%20Aline%20und%20Svenja%20%28Purple%20Ride%29%20
 stellen%20ihre%20Aktivit%C3%A4ten%20vor%3A%20Wie%20wird%20feministische%2
 0Mobilit%C3%A4t%20im%20Alltag%20sichtbar%20und%20wieso%20gibt%20es%20gera
 de%20im%20Verkehr%20misogyne%20Aggressionen%20gegen%20FLINTA%2A-Personen%
 3F%3Cbr%20%2F%3E%0AWir%20freuen%20uns%20auf%20alle%20interessierten%20Per
 sonen%2C%20vielf%C3%A4ltige%20Perspektiven%20und%20eine%20spannende%20Dis
 kussion.%20Kommt%20vorbei%20und%20bringt%20eure%20Fragen%20mit%21%3Cbr%20
 %2F%3E%0A%3Cbr%20%2F%3E%0ATermin%3A%2022.04.2026%20von%2018%3A30%20Uhr%20
 bis%2020%3A00%20Uhr%3Cbr%20%2F%3E%0AOnline%3A%20https%3A%2F%2Fkonferenz.n
 etzbegruenung.de%2Fgrueneagmobilitaet%3Cbr%20%2F%3E%0A%3Cbr%20%2F%3E%0AVi
 ele%20Gr%C3%BC%C3%9Fe%2C%3Cbr%20%2F%3E%0ACorinna%20und%20Tamara%20f%C3%BC
 r%20die%20AG%20Mobilit%C3%A4t%3Cbr%20%2F%3E%0A%3Cbr%20%2F%3E%0A--%20%3Cbr
 %20%2F%3E%0AWeb%20%20%20%20%20%20%20%20https%3A%2F%2Fwww.corinnabalkow.de
 %2F%3Cbr%20%2F%3E%0AMastodon%20%20%20%40coba%40gruene.social%3Cbr%20%2F%3
 E%0A%3C%2Fp%3E":Liebe Freund*innen\,\n\nam 9.3. haben wir für feministis
 che Mobilitätspolitik demonstriert. Nun wollen wir uns am 22. April auch
  inhaltlich in der AG Mobilität austauschen.\n\nSwantje Michaelsen\, MdB
 \, und im Verkehrsausschuss organisiert im Team mit weiteren Frauen den K
 ongress Frauen machen Mobil(ität). Hier bekommen Frauen\, die für die V
 erkehrswende kämpfen\, eine Stimme.\n\nJulia Fertig (Respect Cyclists) u
 nd Aline und Svenja (Purple Ride) stellen ihre Aktivitäten vor: Wie wird
  feministische Mobilität im Alltag sichtbar und wieso gibt es gerade im 
 Verkehr misogyne Aggressionen gegen FLINTA*-Personen?\n\nWir freuen uns a
 uf alle interessierten Personen\, vielfältige Perspektiven und eine span
 nende Diskussion. Kommt vorbei und bringt eure Fragen mit!\n\nTermin: 22.
 04.2026 von 18:30 Uhr bis 20:00 Uhr\n\nOnline: https://konferenz.netzbegr
 uenung.de/grueneagmobilitaet\n\nViele Grüße\,\n\nCorinna und Tamara fü
 r die AG Mobilität\n\n--\n\nWeb        https://www.corinnabalkow.de/\n\n
 Mastodon   @coba@gruene.social
CLASS:PUBLIC
DTSTART;TZID=Europe/Berlin:20260422T183000
DTEND;TZID=Europe/Berlin:20260422T200000
DTSTAMP:20260422T133734
END:VEVENT
END:VCALENDAR