BEGIN:VCALENDAR
VERSION:2.0
PRODID:gruene-cw.de
METHOD:PUBLISH
BEGIN:VTIMEZONE
TZID:Europe/Berlin
X-LIC-LOCATION:Europe/Berlin
BEGIN:DAYLIGHT
TZOFFSETFROM:+0100
TZOFFSETTO:+0200
TZNAME:CEST
DTSTART:19700329T020000
RRULE:FREQ=YEARLY;INTERVAL=1;BYDAY=-1SU;BYMONTH=3
END:DAYLIGHT
BEGIN:STANDARD
TZOFFSETFROM:+0200
TZOFFSETTO:+0100
TZNAME:CET
DTSTART:19701025T030000
RRULE:FREQ=YEARLY;INTERVAL=1;BYDAY=-1SU;BYMONTH=10
END:STANDARD
END:VTIMEZONE
BEGIN:VEVENT
UID:48fde74278dc1ef8aa0d14658ca02006@gruene-cw.de
URL;VALUE=URI:https://gruene-cw.de/termine/ag-klimagerechtigkeit-12/
LOCATION:Ort folgt
SUMMARY:AG Klimagerechtigkeit
DESCRIPTION;ALTREP="data:text/html,%3Cp%3EIn%20unserer%20AG%20Klimagerech
 tigkeit%20treffen%20wir%20uns%20regelm%C3%A4%C3%9Fig%2C%20um%20dar%C3%BCb
 er%20zu%20diskutieren%2C%20wie%20wir%20gemeinsam%20zu%20einer%20klimagere
 chteren%20Gesellschaft%20beitragen%20k%C3%B6nnen.%20Dabei%20gehen%20wir%2
 0von%20der%20Erkenntnis%20aus%2C%20dass%20vor%20allem%20die%20reichsten%2
 0Teile%20der%20Gesellschaft%20%C3%BCberproportional%20zur%20Versch%C3%A4r
 fung%20der%20Klimakrise%20beitragen%2C%20w%C3%A4hrend%20sozial%20schw%C3%
 A4chere%20Gruppen%20besonders%20stark%20von%20den%20Folgen%20betroffen%20
 sind.%20F%C3%BCr%20uns%20ist%20klar%2C%20dass%20Klimapolitik%20auch%20soz
 ial%20gerecht%20sein%20muss.%20Wir%20entwickeln%20gemeinsam%20L%C3%B6sung
 sans%C3%A4tze%2C%20tauschen%20Wissen%20aus%20und%20vernetzen%20uns%20mit%
 20Initiativen%2C%20die%20sich%20f%C3%BCr%20Klimagerechtigkeit%20einsetzen
 .%3C%2Fp%3E":In unserer AG Klimagerechtigkeit treffen wir uns regelmäßi
 g\, um darüber zu diskutieren\, wie wir gemeinsam zu einer klimagerechte
 ren Gesellschaft beitragen können. Dabei gehen wir von der Erkenntnis au
 s\, dass vor allem die reichsten Teile der Gesellschaft überproportional
  zur Verschärfung der Klimakrise beitragen\, während sozial schwächere
  Gruppen besonders stark von den Folgen betroffen sind. Für uns ist klar
 \, dass Klimapolitik auch sozial gerecht sein muss. Wir entwickeln gemein
 sam Lösungsansätze\, tauschen Wissen aus und vernetzen uns mit Initiati
 ven\, die sich für Klimagerechtigkeit einsetzen.
CLASS:PUBLIC
DTSTART;TZID=Europe/Berlin:20260624T193000
DTEND;TZID=Europe/Berlin:20260624T213000
DTSTAMP:20260422T145357
END:VEVENT
END:VCALENDAR