BEGIN:VCALENDAR
VERSION:2.0
PRODID:gruene-cw.de
METHOD:PUBLISH
BEGIN:VTIMEZONE
TZID:Europe/Berlin
X-LIC-LOCATION:Europe/Berlin
BEGIN:DAYLIGHT
TZOFFSETFROM:+0100
TZOFFSETTO:+0200
TZNAME:CEST
DTSTART:19700329T020000
RRULE:FREQ=YEARLY;INTERVAL=1;BYDAY=-1SU;BYMONTH=3
END:DAYLIGHT
BEGIN:STANDARD
TZOFFSETFROM:+0200
TZOFFSETTO:+0100
TZNAME:CET
DTSTART:19701025T030000
RRULE:FREQ=YEARLY;INTERVAL=1;BYDAY=-1SU;BYMONTH=10
END:STANDARD
END:VTIMEZONE
BEGIN:VEVENT
UID:63aefa4bc91546a78a56e26879b72568@gruene-cw.de
URL;VALUE=URI:https://gruene-cw.de/termine/ag-bauen-stadtplanung/
LOCATION:Rathaus Charlottenburg-Wilmersdorf
Otto-Suhr-Allee 100, 10585 Be
 rlin, Deutschland
SUMMARY:AG Bauen & Stadtplanung
DESCRIPTION;ALTREP="data:text/html,%3Cp%3EIn%20Fraktionsr%C3%A4umen%20Rau
 m%20140%3Cbr%20%2F%3E%0A%3Cbr%20%2F%3E%0AIn%20unserer%20Arbeitsgruppe%20B
 auen%20k%C3%B6nnen%20sich%20Interessierte%20Gr%C3%BCne%20%C3%BCber%20die%
 20Stadtentwicklungspolitik%20und%20baupolitische%20Themen%20in%20unserem%
 20Bezirk%20informieren%20und%20mitdiskutieren.%20In%20einer%20der%20%C3%A
 4ltesten%2C%20durchg%C3%A4ngig%20stattfindenen%20AG%20hat%20sich%20viel%2
 0Sachverstand%20und%20Wissen%20%C3%BCer%20die%20Entwicklungsgeschichte%20
 des%20Bezirks%20angesammelt.Auf%20dieser%20Grundlage%20wird%20%C3%BCber%2
 0die%20weiteren%20st%C3%A4dtepolitischen%20und%20baulichen%20Entwicklungs
 m%C3%B6glichkeiten%20in%20unserem%20Bezirk%20diskutiert.%20Wer%20sich%20z
 udem%20mit%20dne%20zahlreichen%20B%C3%BCrgerinitiativen%20zu%20Bau-%20und
 %20Stadtentwicklungsthemen%20vernetzen%20will%2C%20findet%20hier%20die%20
 richtigen%20Ansprechpartner%20und%20Ansprechpartnerinnen.%20%3Cbr%20%2F%3
 E%0A%3Cbr%20%2F%3E%0AKontakt%3A%20Cornelia%20Biermann-Gr%C3%A4bner%20%3Cb
 r%20%2F%3E%0AE-Mail%3A%20vinalia%40t-online.de%3C%2Fp%3E":In Fraktionsrä
 umen Raum 140\n\nIn unserer Arbeitsgruppe Bauen können sich Interessiert
 e Grüne über die Stadtentwicklungspolitik und baupolitische Themen in u
 nserem Bezirk informieren und mitdiskutieren. In einer der ältesten\, du
 rchgängig stattfindenen AG hat sich viel Sachverstand und Wissen üer di
 e Entwicklungsgeschichte des Bezirks angesammelt.Auf dieser Grundlage wir
 d über die weiteren städtepolitischen und baulichen Entwicklungsmöglic
 hkeiten in unserem Bezirk diskutiert. Wer sich zudem mit dne zahlreichen 
 Bürgerinitiativen zu Bau- und Stadtentwicklungsthemen vernetzen will\, f
 indet hier die richtigen Ansprechpartner und Ansprechpartnerinnen.\n\nKon
 takt: Cornelia Biermann-Gräbner\n\nE-Mail: vinalia@t-online.de
CLASS:PUBLIC
DTSTART;TZID=Europe/Berlin:20260916T193000
DTEND;TZID=Europe/Berlin:20260916T213000
DTSTAMP:20260422T145138
END:VEVENT
END:VCALENDAR